{"text_format":"3","workbook":"xlsx","n_sheets":12,"sheets":["Abrechnung 01.20xx","Abrechnung 02.20xx","Abrechnung 03.20xx","Abrechnung 04.20xx","Abrechnung 05.20xx","Abrechnung 06.20xx","Abrechnung 07.20xx","Abrechnung 08.20xx","Abrechnung 09.20xx","Abrechnung 10.20xx","Abrechnung 11.20xx","Abrechnung 12.20xx"],"not_rendered":{"defined_names":12,"comments":12},"read":"whole","date_system":"1900"}

{"sheet":"Abrechnung 01.20xx","index":0,"n_rows":45,"n_cols":9,"rows_kept":45,"merged":[[1,0,1,2],[4,0,4,2],[6,2,6,4],[6,5,6,6],[7,2,7,4],[8,2,8,4],[9,2,9,4],[10,2,10,4],[11,2,11,4],[12,2,12,4],[13,2,13,4],[14,2,14,4],[15,2,15,4],[16,2,16,4],[17,2,17,4],[18,2,18,4],[19,2,19,4],[20,2,20,4],[21,2,21,4],[22,2,22,4],[23,2,23,4],[24,2,24,4],[25,2,25,4],[26,2,26,4],[27,2,27,4],[28,2,28,4],[29,2,29,4],[30,2,30,4],[31,2,31,4],[32,2,32,4],[33,2,33,4],[34,2,34,4],[35,2,35,4],[36,2,36,4],[37,2,37,4],[39,0,39,2],[42,0,42,2],[43,0,43,2]]}
["Mandant",{"$nulls":3},"Abrechnung Handgeldvorschuss"]
[{"$nulls":4},"Monat ","Januar",202,null,"Bitte beachten Sie diese Hinweise:"]
[{"$nulls":8},"(Dieses Feld wird nicht gedruckt und braucht deshalb nicht gelöscht zu werden.)"]
["Arbeitsbereich",{"$nulls":3},"Datum"]
[{"$nulls":8},"1) Für eine komfortable Anwendung sind einige Zellen mit Formeln hinterlegt."]
[{"$nulls":8},"    Bitte überschreiben Sie diese nicht, da sonst die unterstützenden Funktionen gelöscht werden."]
["Beleg-Nr.","Datum","Verwendungszweck",null,null,"Betrag in €"]
[{"$nulls":5},"Haben","Soll",null,"2) Weitere wichtige Erläuterungen finden Sie bei einigen Zellen in Kommentaren."]
[0,"01.01.","Saldo Vormonat",{"$nulls":5},"    Diese sind am kleinen roten Dreieck in der rechten oberen Ecke der Zelle erkennbar."]
[null,null,"Erstattung Fehlbetrag Vormonat"]
[null,null,"Überweisung Überschuss Vormonat"]
[{"$nulls":8},"    Der Kommentar wird sichtbar, indem die Zelle \"angeklickt\" oder auch nur der Cursor/die Maus"]
[{"$nulls":8},"    über die Zelle bewegt wird."]
{"$rows_empty":24}
[null,null,"Gesamtsumme:",null,null,{"$f":"SUM(F9:F37)","v":{"v":0,"d":"0.00 €"}},{"$f":"SUM(G9:G37)","v":{"v":0,"d":"0.00 €"}}]
["Überweisung an"]
[{"$nulls":4},"Saldo:",{"$f":"F38-G38","v":{"v":0,"d":"0.00 €"}}]
[{"$nulls":4},"abzgl. Dauervorschuss:",{"v":0,"d":"0.00 €"}]
["IBAN + BANK",{"$nulls":3},"Fehlbetrag/Überschuss:",{"$f":"F40-F41","v":{"v":0,"d":"0.00 €"}}]
["DE"]
[]
[null,null,"Sachlich richtig",null,null,"Angeordnet"]

{"sheet":"Abrechnung 02.20xx","index":1,"n_rows":45,"n_cols":9,"rows_kept":45,"merged":[[1,0,1,2],[4,0,4,2],[6,2,6,4],[6,5,6,6],[7,2,7,4],[8,2,8,4],[9,2,9,4],[10,2,10,4],[11,2,11,4],[12,2,12,4],[13,2,13,4],[14,2,14,4],[15,2,15,4],[16,2,16,4],[17,2,17,4],[18,2,18,4],[19,2,19,4],[20,2,20,4],[21,2,21,4],[22,2,22,4],[23,2,23,4],[24,2,24,4],[25,2,25,4],[26,2,26,4],[27,2,27,4],[28,2,28,4],[29,2,29,4],[30,2,30,4],[31,2,31,4],[32,2,32,4],[33,2,33,4],[34,2,34,4],[35,2,35,4],[36,2,36,4],[37,2,37,4],[39,0,39,2],[42,0,42,2],[43,0,43,2]]}
["Mandant",{"$nulls":3},"Abrechnung Handgeldvorschuss"]
[{"$f":"'Abrechnung 01.20xx'!A2:C2","v":0},{"$nulls":3},"Monat ","Februar",{"$f":"'Abrechnung 01.20xx'!G2","v":202},null,"Bitte beachten Sie diese Hinweise:"]
[{"$nulls":8},"(Dieses Feld wird nicht gedruckt und braucht deshalb nicht gelöscht zu werden.)"]
["Arbeitsbereich",{"$nulls":3},"Datum"]
[{"$f":"'Abrechnung 01.20xx'!A5:C5","v":0},{"$nulls":7},"1) Für eine komfortable Anwendung sind einige Zellen mit Formeln hinterlegt."]
[{"$nulls":8},"    Bitte überschreiben Sie diese nicht, da sonst die unterstützenden Funktionen gelöscht werden."]
["Beleg-Nr.","Datum","Verwendungszweck",null,null,"Betrag in €"]
[{"$nulls":5},"Haben","Soll",null,"2) Weitere wichtige Erläuterungen finden Sie bei einigen Zellen in Kommentaren."]
[0,"01.02.","Saldo Vormonat",null,null,{"$f":"'Abrechnung 01.20xx'!$F$40","v":{"v":0,"d":"0.00 €"}},null,null,"    Diese sind am kleinen roten Dreieck in der rechten oberen Ecke der Zelle erkennbar."]
[null,null,"Erstattung Fehlbetrag Vormonat"]
[null,null,"Überweisung Überschuss Vormonat"]
[{"$nulls":8},"    Der Kommentar wird sichtbar, indem die Zelle \"angeklickt\" oder auch nur der Cursor/die Maus"]
[{"$nulls":8},"    über die Zelle bewegt wird."]
{"$rows_empty":24}
[null,null,"Gesamtsumme:",null,null,{"$f":"SUM(F9:F37)","v":{"v":0,"d":"0.00 €"}},{"$f":"SUM(G9:G37)","v":{"v":0,"d":"0.00 €"}}]
["Überweisung an"]
[{"$f":"'Abrechnung 01.20xx'!A40:C40","v":0},{"$nulls":3},"Saldo:",{"$f":"F38-G38","v":{"v":0,"d":"0.00 €"}}]
[{"$nulls":4},"abzgl. Dauervorschuss:",{"$f":"'Abrechnung 01.20xx'!$F$41","v":{"v":0,"d":"0.00 €"}}]
["IBAN + BANK",{"$nulls":3},"Fehlbetrag/Überschuss:",{"$f":"F40-F41","v":{"v":0,"d":"0.00 €"}}]
[{"$f":"'Abrechnung 01.20xx'!A43:C43","v":"DE"}]
[{"$f":"'Abrechnung 01.20xx'!A44:C44","v":0}]
[null,null,"Sachlich richtig",null,null,"Angeordnet"]

{"sheet":"Abrechnung 03.20xx","index":2,"n_rows":45,"n_cols":9,"rows_kept":45,"merged":[[1,0,1,2],[4,0,4,2],[6,2,6,4],[6,5,6,6],[7,2,7,4],[8,2,8,4],[9,2,9,4],[10,2,10,4],[11,2,11,4],[12,2,12,4],[13,2,13,4],[14,2,14,4],[15,2,15,4],[16,2,16,4],[17,2,17,4],[18,2,18,4],[19,2,19,4],[20,2,20,4],[21,2,21,4],[22,2,22,4],[23,2,23,4],[24,2,24,4],[25,2,25,4],[26,2,26,4],[27,2,27,4],[28,2,28,4],[29,2,29,4],[30,2,30,4],[31,2,31,4],[32,2,32,4],[33,2,33,4],[34,2,34,4],[35,2,35,4],[36,2,36,4],[37,2,37,4],[39,0,39,2],[42,0,42,2],[43,0,43,2]]}
["Mandant",{"$nulls":3},"Abrechnung Handgeldvorschuss"]
[{"$f":"'Abrechnung 01.20xx'!A2:C2","v":0},{"$nulls":3},"Monat ","März",{"$f":"'Abrechnung 01.20xx'!G2","v":202},null,"Bitte beachten Sie diese Hinweise:"]
[{"$nulls":8},"(Dieses Feld wird nicht gedruckt und braucht deshalb nicht gelöscht zu werden.)"]
["Arbeitsbereich",{"$nulls":3},"Datum"]
[{"$f":"'Abrechnung 01.20xx'!A5:C5","v":0},{"$nulls":7},"1) Für eine komfortable Anwendung sind einige Zellen mit Formeln hinterlegt."]
[{"$nulls":8},"    Bitte überschreiben Sie diese nicht, da sonst die unterstützenden Funktionen gelöscht werden."]
["Beleg-Nr.","Datum","Verwendungszweck",null,null,"Betrag in €"]
[{"$nulls":5},"Haben","Soll",null,"2) Weitere wichtige Erläuterungen finden Sie bei einigen Zellen in Kommentaren."]
[0,"01.03.","Saldo Vormonat",null,null,{"$f":"'Abrechnung 02.20xx'!$F$40","v":{"v":0,"d":"0.00 €"}},null,null,"    Diese sind am kleinen roten Dreieck in der rechten oberen Ecke der Zelle erkennbar."]
[null,null,"Erstattung Fehlbetrag Vormonat"]
[null,null,"Überweisung Überschuss Vormonat"]
[{"$nulls":8},"    Der Kommentar wird sichtbar, indem die Zelle \"angeklickt\" oder auch nur der Cursor/die Maus"]
[{"$nulls":8},"    über die Zelle bewegt wird."]
{"$rows_empty":24}
[null,null,"Gesamtsumme:",null,null,{"$f":"SUM(F9:F37)","v":{"v":0,"d":"0.00 €"}},{"$f":"SUM(G9:G37)","v":{"v":0,"d":"0.00 €"}}]
["Überweisung an"]
[{"$f":"'Abrechnung 01.20xx'!A40:C40","v":0},{"$nulls":3},"Saldo:",{"$f":"F38-G38","v":{"v":0,"d":"0.00 €"}}]
[{"$nulls":4},"abzgl. Dauervorschuss:",{"$f":"'Abrechnung 02.20xx'!$F$41","v":{"v":0,"d":"0.00 €"}}]
["IBAN + BANK",{"$nulls":3},"Fehlbetrag/Überschuss:",{"$f":"F40-F41","v":{"v":0,"d":"0.00 €"}}]
[{"$f":"'Abrechnung 01.20xx'!A43:C43","v":"DE"}]
[{"$f":"'Abrechnung 01.20xx'!A44:C44","v":0}]
[null,null,"Sachlich richtig",null,null,"Angeordnet"]

{"sheet":"Abrechnung 04.20xx","index":3,"n_rows":45,"n_cols":9,"rows_kept":45,"merged":[[1,0,1,2],[4,0,4,2],[6,2,6,4],[6,5,6,6],[7,2,7,4],[8,2,8,4],[9,2,9,4],[10,2,10,4],[11,2,11,4],[12,2,12,4],[13,2,13,4],[14,2,14,4],[15,2,15,4],[16,2,16,4],[17,2,17,4],[18,2,18,4],[19,2,19,4],[20,2,20,4],[21,2,21,4],[22,2,22,4],[23,2,23,4],[24,2,24,4],[25,2,25,4],[26,2,26,4],[27,2,27,4],[28,2,28,4],[29,2,29,4],[30,2,30,4],[31,2,31,4],[32,2,32,4],[33,2,33,4],[34,2,34,4],[35,2,35,4],[36,2,36,4],[37,2,37,4],[39,0,39,2],[42,0,42,2],[43,0,43,2]]}
["Mandant",{"$nulls":3},"Abrechnung Handgeldvorschuss"]
[{"$f":"'Abrechnung 01.20xx'!A2:C2","v":0},{"$nulls":3},"Monat ","April",{"$f":"'Abrechnung 01.20xx'!G2","v":202},null,"Bitte beachten Sie diese Hinweise:"]
[{"$nulls":8},"(Dieses Feld wird nicht gedruckt und braucht deshalb nicht gelöscht zu werden.)"]
["Arbeitsbereich",{"$nulls":3},"Datum"]
[{"$f":"'Abrechnung 01.20xx'!A5:C5","v":0},{"$nulls":7},"1) Für eine komfortable Anwendung sind einige Zellen mit Formeln hinterlegt."]
[{"$nulls":8},"    Bitte überschreiben Sie diese nicht, da sonst die unterstützenden Funktionen gelöscht werden."]
["Beleg-Nr.","Datum","Verwendungszweck",null,null,"Betrag in €"]
[{"$nulls":5},"Haben","Soll",null,"2) Weitere wichtige Erläuterungen finden Sie bei einigen Zellen in Kommentaren."]
[0,"01.04.","Saldo Vormonat",null,null,{"$f":"'Abrechnung 03.20xx'!$F$40","v":{"v":0,"d":"0.00 €"}},null,null,"    Diese sind am kleinen roten Dreieck in der rechten oberen Ecke der Zelle erkennbar."]
[null,null,"Erstattung Fehlbetrag Vormonat"]
[null,null,"Überweisung Überschuss Vormonat"]
[{"$nulls":8},"    Der Kommentar wird sichtbar, indem die Zelle \"angeklickt\" oder auch nur der Cursor/die Maus"]
[{"$nulls":8},"    über die Zelle bewegt wird."]
{"$rows_empty":24}
[null,null,"Gesamtsumme:",null,null,{"$f":"SUM(F9:F37)","v":{"v":0,"d":"0.00 €"}},{"$f":"SUM(G9:G37)","v":{"v":0,"d":"0.00 €"}}]
["Überweisung an"]
[{"$f":"'Abrechnung 01.20xx'!A40:C40","v":0},{"$nulls":3},"Saldo:",{"$f":"F38-G38","v":{"v":0,"d":"0.00 €"}}]
[{"$nulls":4},"abzgl. Dauervorschuss:",{"$f":"'Abrechnung 03.20xx'!$F$41","v":{"v":0,"d":"0.00 €"}}]
["IBAN + BANK",{"$nulls":3},"Fehlbetrag/Überschuss:",{"$f":"F40-F41","v":{"v":0,"d":"0.00 €"}}]
[{"$f":"'Abrechnung 01.20xx'!A43:C43","v":"DE"}]
[{"$f":"'Abrechnung 01.20xx'!A44:C44","v":0}]
[null,null,"Sachlich richtig",null,null,"Angeordnet"]

{"sheet":"Abrechnung 05.20xx","index":4,"n_rows":45,"n_cols":9,"rows_kept":45,"merged":[[1,0,1,2],[4,0,4,2],[6,2,6,4],[6,5,6,6],[7,2,7,4],[8,2,8,4],[9,2,9,4],[10,2,10,4],[11,2,11,4],[12,2,12,4],[13,2,13,4],[14,2,14,4],[15,2,15,4],[16,2,16,4],[17,2,17,4],[18,2,18,4],[19,2,19,4],[20,2,20,4],[21,2,21,4],[22,2,22,4],[23,2,23,4],[24,2,24,4],[25,2,25,4],[26,2,26,4],[27,2,27,4],[28,2,28,4],[29,2,29,4],[30,2,30,4],[31,2,31,4],[32,2,32,4],[33,2,33,4],[34,2,34,4],[35,2,35,4],[36,2,36,4],[37,2,37,4],[39,0,39,2],[42,0,42,2],[43,0,43,2]]}
["Mandant",{"$nulls":3},"Abrechnung Handgeldvorschuss"]
[{"$f":"'Abrechnung 01.20xx'!A2:C2","v":0},{"$nulls":3},"Monat ","Mai",{"$f":"'Abrechnung 01.20xx'!G2","v":202},null,"Bitte beachten Sie diese Hinweise:"]
[{"$nulls":8},"(Dieses Feld wird nicht gedruckt und braucht deshalb nicht gelöscht zu werden.)"]
["Arbeitsbereich",{"$nulls":3},"Datum"]
[{"$f":"'Abrechnung 01.20xx'!A5:C5","v":0},{"$nulls":7},"1) Für eine komfortable Anwendung sind einige Zellen mit Formeln hinterlegt."]
[{"$nulls":8},"    Bitte überschreiben Sie diese nicht, da sonst die unterstützenden Funktionen gelöscht werden."]
["Beleg-Nr.","Datum","Verwendungszweck",null,null,"Betrag in €"]
[{"$nulls":5},"Haben","Soll",null,"2) Weitere wichtige Erläuterungen finden Sie bei einigen Zellen in Kommentaren."]
[0,"01.05.","Saldo Vormonat",null,null,{"$f":"'Abrechnung 04.20xx'!$F$40","v":{"v":0,"d":"0.00 €"}},null,null,"    Diese sind am kleinen roten Dreieck in der rechten oberen Ecke der Zelle erkennbar."]
[null,null,"Erstattung Fehlbetrag Vormonat"]
[null,null,"Überweisung Überschuss Vormonat"]
[{"$nulls":8},"    Der Kommentar wird sichtbar, indem die Zelle \"angeklickt\" oder auch nur der Cursor/die Maus"]
[{"$nulls":8},"    über die Zelle bewegt wird."]
{"$rows_empty":24}
[null,null,"Gesamtsumme:",null,null,{"$f":"SUM(F9:F37)","v":{"v":0,"d":"0.00 €"}},{"$f":"SUM(G9:G37)","v":{"v":0,"d":"0.00 €"}}]
["Überweisung an"]
[{"$f":"'Abrechnung 01.20xx'!A40:C40","v":0},{"$nulls":3},"Saldo:",{"$f":"F38-G38","v":{"v":0,"d":"0.00 €"}}]
[{"$nulls":4},"abzgl. Dauervorschuss:",{"$f":"'Abrechnung 04.20xx'!$F$41","v":{"v":0,"d":"0.00 €"}}]
["IBAN + BANK",{"$nulls":3},"Fehlbetrag/Überschuss:",{"$f":"F40-F41","v":{"v":0,"d":"0.00 €"}}]
[{"$f":"'Abrechnung 01.20xx'!A43:C43","v":"DE"}]
[{"$f":"'Abrechnung 01.20xx'!A44:C44","v":0}]
[null,null,"Sachlich richtig",null,null,"Angeordnet"]

{"sheet":"Abrechnung 06.20xx","index":5,"n_rows":45,"n_cols":9,"rows_kept":45,"merged":[[1,0,1,2],[4,0,4,2],[6,2,6,4],[6,5,6,6],[7,2,7,4],[8,2,8,4],[9,2,9,4],[10,2,10,4],[11,2,11,4],[12,2,12,4],[13,2,13,4],[14,2,14,4],[15,2,15,4],[16,2,16,4],[17,2,17,4],[18,2,18,4],[19,2,19,4],[20,2,20,4],[21,2,21,4],[22,2,22,4],[23,2,23,4],[24,2,24,4],[25,2,25,4],[26,2,26,4],[27,2,27,4],[28,2,28,4],[29,2,29,4],[30,2,30,4],[31,2,31,4],[32,2,32,4],[33,2,33,4],[34,2,34,4],[35,2,35,4],[36,2,36,4],[37,2,37,4],[39,0,39,2],[42,0,42,2],[43,0,43,2]]}
["Mandant",{"$nulls":3},"Abrechnung Handgeldvorschuss"]
[{"$f":"'Abrechnung 01.20xx'!A2:C2","v":0},{"$nulls":3},"Monat ","Juni",{"$f":"'Abrechnung 01.20xx'!G2","v":202},null,"Bitte beachten Sie diese Hinweise:"]
[{"$nulls":8},"(Dieses Feld wird nicht gedruckt und braucht deshalb nicht gelöscht zu werden.)"]
["Arbeitsbereich",{"$nulls":3},"Datum"]
[{"$f":"'Abrechnung 01.20xx'!A5:C5","v":0},{"$nulls":7},"1) Für eine komfortable Anwendung sind einige Zellen mit Formeln hinterlegt."]
[{"$nulls":8},"    Bitte überschreiben Sie diese nicht, da sonst die unterstützenden Funktionen gelöscht werden."]
["Beleg-Nr.","Datum","Verwendungszweck",null,null,"Betrag in €"]
[{"$nulls":5},"Haben","Soll",null,"2) Weitere wichtige Erläuterungen finden Sie bei einigen Zellen in Kommentaren."]
[0,"01.06.","Saldo Vormonat",null,null,{"$f":"'Abrechnung 05.20xx'!$F$40","v":{"v":0,"d":"0.00 €"}},null,null,"    Diese sind am kleinen roten Dreieck in der rechten oberen Ecke der Zelle erkennbar."]
[null,null,"Erstattung Fehlbetrag Vormonat"]
[null,null,"Überweisung Überschuss Vormonat"]
[{"$nulls":8},"    Der Kommentar wird sichtbar, indem die Zelle \"angeklickt\" oder auch nur der Cursor/die Maus"]
[{"$nulls":8},"    über die Zelle bewegt wird."]
{"$rows_empty":24}
[null,null,"Gesamtsumme:",null,null,{"$f":"SUM(F9:F37)","v":{"v":0,"d":"0.00 €"}},{"$f":"SUM(G9:G37)","v":{"v":0,"d":"0.00 €"}}]
["Überweisung an"]
[{"$f":"'Abrechnung 01.20xx'!A40:C40","v":0},{"$nulls":3},"Saldo:",{"$f":"F38-G38","v":{"v":0,"d":"0.00 €"}}]
[{"$nulls":4},"abzgl. Dauervorschuss:",{"$f":"'Abrechnung 05.20xx'!$F$41","v":{"v":0,"d":"0.00 €"}}]
["IBAN + BANK",{"$nulls":3},"Fehlbetrag/Überschuss:",{"$f":"F40-F41","v":{"v":0,"d":"0.00 €"}}]
[{"$f":"'Abrechnung 01.20xx'!A43:C43","v":"DE"}]
[{"$f":"'Abrechnung 01.20xx'!A44:C44","v":0}]
[null,null,"Sachlich richtig",null,null,"Angeordnet"]

{"sheet":"Abrechnung 07.20xx","index":6,"n_rows":45,"n_cols":9,"rows_kept":45,"merged":[[1,0,1,2],[4,0,4,2],[6,2,6,4],[6,5,6,6],[7,2,7,4],[8,2,8,4],[9,2,9,4],[10,2,10,4],[11,2,11,4],[12,2,12,4],[13,2,13,4],[14,2,14,4],[15,2,15,4],[16,2,16,4],[17,2,17,4],[18,2,18,4],[19,2,19,4],[20,2,20,4],[21,2,21,4],[22,2,22,4],[23,2,23,4],[24,2,24,4],[25,2,25,4],[26,2,26,4],[27,2,27,4],[28,2,28,4],[29,2,29,4],[30,2,30,4],[31,2,31,4],[32,2,32,4],[33,2,33,4],[34,2,34,4],[35,2,35,4],[36,2,36,4],[37,2,37,4],[39,0,39,2],[42,0,42,2],[43,0,43,2]]}
["Mandant",{"$nulls":3},"Abrechnung Handgeldvorschuss"]
[{"$f":"'Abrechnung 01.20xx'!A2:C2","v":0},{"$nulls":3},"Monat ","Juli",{"$f":"'Abrechnung 01.20xx'!G2","v":202},null,"Bitte beachten Sie diese Hinweise:"]
[{"$nulls":8},"(Dieses Feld wird nicht gedruckt und braucht deshalb nicht gelöscht zu werden.)"]
["Arbeitsbereich",{"$nulls":3},"Datum"]
[{"$f":"'Abrechnung 01.20xx'!A5:C5","v":0},{"$nulls":7},"1) Für eine komfortable Anwendung sind einige Zellen mit Formeln hinterlegt."]
[{"$nulls":8},"    Bitte überschreiben Sie diese nicht, da sonst die unterstützenden Funktionen gelöscht werden."]
["Beleg-Nr.","Datum","Verwendungszweck",null,null,"Betrag in €"]
[{"$nulls":5},"Haben","Soll",null,"2) Weitere wichtige Erläuterungen finden Sie bei einigen Zellen in Kommentaren."]
[0,"01.07.","Saldo Vormonat",null,null,{"$f":"'Abrechnung 06.20xx'!$F$40","v":{"v":0,"d":"0.00 €"}},null,null,"    Diese sind am kleinen roten Dreieck in der rechten oberen Ecke der Zelle erkennbar."]
[null,null,"Erstattung Fehlbetrag Vormonat"]
[null,null,"Überweisung Überschuss Vormonat"]
[{"$nulls":8},"    Der Kommentar wird sichtbar, indem die Zelle \"angeklickt\" oder auch nur der Cursor/die Maus"]
[{"$nulls":8},"    über die Zelle bewegt wird."]
{"$rows_empty":24}
[null,null,"Gesamtsumme:",null,null,{"$f":"SUM(F9:F37)","v":{"v":0,"d":"0.00 €"}},{"$f":"SUM(G9:G37)","v":{"v":0,"d":"0.00 €"}}]
["Überweisung an"]
[{"$f":"'Abrechnung 01.20xx'!A40:C40","v":0},{"$nulls":3},"Saldo:",{"$f":"F38-G38","v":{"v":0,"d":"0.00 €"}}]
[{"$nulls":4},"abzgl. Dauervorschuss:",{"$f":"'Abrechnung 06.20xx'!$F$41","v":{"v":0,"d":"0.00 €"}}]
["IBAN + BANK",{"$nulls":3},"Fehlbetrag/Überschuss:",{"$f":"F40-F41","v":{"v":0,"d":"0.00 €"}}]
[{"$f":"'Abrechnung 01.20xx'!A43:C43","v":"DE"}]
[{"$f":"'Abrechnung 01.20xx'!A44:C44","v":0}]
[null,null,"Sachlich richtig",null,null,"Angeordnet"]

{"sheet":"Abrechnung 08.20xx","index":7,"n_rows":45,"n_cols":9,"rows_kept":45,"merged":[[1,0,1,2],[4,0,4,2],[6,2,6,4],[6,5,6,6],[7,2,7,4],[8,2,8,4],[9,2,9,4],[10,2,10,4],[11,2,11,4],[12,2,12,4],[13,2,13,4],[14,2,14,4],[15,2,15,4],[16,2,16,4],[17,2,17,4],[18,2,18,4],[19,2,19,4],[20,2,20,4],[21,2,21,4],[22,2,22,4],[23,2,23,4],[24,2,24,4],[25,2,25,4],[26,2,26,4],[27,2,27,4],[28,2,28,4],[29,2,29,4],[30,2,30,4],[31,2,31,4],[32,2,32,4],[33,2,33,4],[34,2,34,4],[35,2,35,4],[36,2,36,4],[37,2,37,4],[39,0,39,2],[42,0,42,2],[43,0,43,2]]}
["Mandant",{"$nulls":3},"Abrechnung Handgeldvorschuss"]
[{"$f":"'Abrechnung 01.20xx'!A2:C2","v":0},{"$nulls":3},"Monat ","August",{"$f":"'Abrechnung 01.20xx'!G2","v":202},null,"Bitte beachten Sie diese Hinweise:"]
[{"$nulls":8},"(Dieses Feld wird nicht gedruckt und braucht deshalb nicht gelöscht zu werden.)"]
["Arbeitsbereich",{"$nulls":3},"Datum"]
[{"$f":"'Abrechnung 01.20xx'!A5:C5","v":0},{"$nulls":7},"1) Für eine komfortable Anwendung sind einige Zellen mit Formeln hinterlegt."]
[{"$nulls":8},"    Bitte überschreiben Sie diese nicht, da sonst die unterstützenden Funktionen gelöscht werden."]
["Beleg-Nr.","Datum","Verwendungszweck",null,null,"Betrag in €"]
[{"$nulls":5},"Haben","Soll",null,"2) Weitere wichtige Erläuterungen finden Sie bei einigen Zellen in Kommentaren."]
[0,"01.08.","Saldo Vormonat",null,null,{"$f":"'Abrechnung 07.20xx'!$F$40","v":{"v":0,"d":"0.00 €"}},null,null,"    Diese sind am kleinen roten Dreieck in der rechten oberen Ecke der Zelle erkennbar."]
[null,null,"Erstattung Fehlbetrag Vormonat"]
[null,null,"Überweisung Überschuss Vormonat"]
[{"$nulls":8},"    Der Kommentar wird sichtbar, indem die Zelle \"angeklickt\" oder auch nur der Cursor/die Maus"]
[{"$nulls":8},"    über die Zelle bewegt wird."]
{"$rows_empty":24}
[null,null,"Gesamtsumme:",null,null,{"$f":"SUM(F9:F37)","v":{"v":0,"d":"0.00 €"}},{"$f":"SUM(G9:G37)","v":{"v":0,"d":"0.00 €"}}]
["Überweisung an"]
[{"$f":"'Abrechnung 01.20xx'!A40:C40","v":0},{"$nulls":3},"Saldo:",{"$f":"F38-G38","v":{"v":0,"d":"0.00 €"}}]
[{"$nulls":4},"abzgl. Dauervorschuss:",{"$f":"'Abrechnung 07.20xx'!$F$41","v":{"v":0,"d":"0.00 €"}}]
["IBAN + BANK",{"$nulls":3},"Fehlbetrag/Überschuss:",{"$f":"F40-F41","v":{"v":0,"d":"0.00 €"}}]
[{"$f":"'Abrechnung 01.20xx'!A43:C43","v":"DE"}]
[{"$f":"'Abrechnung 01.20xx'!A44:C44","v":0}]
[null,null,"Sachlich richtig",null,null,"Angeordnet"]

{"sheet":"Abrechnung 09.20xx","index":8,"n_rows":45,"n_cols":9,"rows_kept":45,"merged":[[1,0,1,2],[4,0,4,2],[6,2,6,4],[6,5,6,6],[7,2,7,4],[8,2,8,4],[9,2,9,4],[10,2,10,4],[11,2,11,4],[12,2,12,4],[13,2,13,4],[14,2,14,4],[15,2,15,4],[16,2,16,4],[17,2,17,4],[18,2,18,4],[19,2,19,4],[20,2,20,4],[21,2,21,4],[22,2,22,4],[23,2,23,4],[24,2,24,4],[25,2,25,4],[26,2,26,4],[27,2,27,4],[28,2,28,4],[29,2,29,4],[30,2,30,4],[31,2,31,4],[32,2,32,4],[33,2,33,4],[34,2,34,4],[35,2,35,4],[36,2,36,4],[37,2,37,4],[39,0,39,2],[42,0,42,2],[43,0,43,2]]}
["Mandant",{"$nulls":3},"Abrechnung Handgeldvorschuss"]
[{"$f":"'Abrechnung 01.20xx'!A2:C2","v":0},{"$nulls":3},"Monat ","September",{"$f":"'Abrechnung 01.20xx'!G2","v":202},null,"Bitte beachten Sie diese Hinweise:"]
[{"$nulls":8},"(Dieses Feld wird nicht gedruckt und braucht deshalb nicht gelöscht zu werden.)"]
["Arbeitsbereich",{"$nulls":3},"Datum"]
[{"$f":"'Abrechnung 01.20xx'!A5:C5","v":0},{"$nulls":7},"1) Für eine komfortable Anwendung sind einige Zellen mit Formeln hinterlegt."]
[{"$nulls":8},"    Bitte überschreiben Sie diese nicht, da sonst die unterstützenden Funktionen gelöscht werden."]
["Beleg-Nr.","Datum","Verwendungszweck",null,null,"Betrag in €"]
[{"$nulls":5},"Haben","Soll",null,"2) Weitere wichtige Erläuterungen finden Sie bei einigen Zellen in Kommentaren."]
[0,"01.09.","Saldo Vormonat",null,null,{"$f":"'Abrechnung 08.20xx'!$F$40","v":{"v":0,"d":"0.00 €"}},null,null,"    Diese sind am kleinen roten Dreieck in der rechten oberen Ecke der Zelle erkennbar."]
[null,null,"Erstattung Fehlbetrag Vormonat"]
[null,null,"Überweisung Überschuss Vormonat"]
[{"$nulls":8},"    Der Kommentar wird sichtbar, indem die Zelle \"angeklickt\" oder auch nur der Cursor/die Maus"]
[{"$nulls":8},"    über die Zelle bewegt wird."]
{"$rows_empty":24}
[null,null,"Gesamtsumme:",null,null,{"$f":"SUM(F9:F37)","v":{"v":0,"d":"0.00 €"}},{"$f":"SUM(G9:G37)","v":{"v":0,"d":"0.00 €"}}]
["Überweisung an"]
[{"$f":"'Abrechnung 01.20xx'!A40:C40","v":0},{"$nulls":3},"Saldo:",{"$f":"F38-G38","v":{"v":0,"d":"0.00 €"}}]
[{"$nulls":4},"abzgl. Dauervorschuss:",{"$f":"'Abrechnung 08.20xx'!$F$41","v":{"v":0,"d":"0.00 €"}}]
["IBAN + BANK",{"$nulls":3},"Fehlbetrag/Überschuss:",{"$f":"F40-F41","v":{"v":0,"d":"0.00 €"}}]
[{"$f":"'Abrechnung 01.20xx'!A43:C43","v":"DE"}]
[{"$f":"'Abrechnung 01.20xx'!A44:C44","v":0}]
[null,null,"Sachlich richtig",null,null,"Angeordnet"]

{"sheet":"Abrechnung 10.20xx","index":9,"n_rows":45,"n_cols":9,"rows_kept":45,"merged":[[1,0,1,2],[4,0,4,2],[6,2,6,4],[6,5,6,6],[7,2,7,4],[8,2,8,4],[9,2,9,4],[10,2,10,4],[11,2,11,4],[12,2,12,4],[13,2,13,4],[14,2,14,4],[15,2,15,4],[16,2,16,4],[17,2,17,4],[18,2,18,4],[19,2,19,4],[20,2,20,4],[21,2,21,4],[22,2,22,4],[23,2,23,4],[24,2,24,4],[25,2,25,4],[26,2,26,4],[27,2,27,4],[28,2,28,4],[29,2,29,4],[30,2,30,4],[31,2,31,4],[32,2,32,4],[33,2,33,4],[34,2,34,4],[35,2,35,4],[36,2,36,4],[37,2,37,4],[39,0,39,2],[42,0,42,2],[43,0,43,2]]}
["Mandant",{"$nulls":3},"Abrechnung Handgeldvorschuss"]
[{"$f":"'Abrechnung 01.20xx'!A2:C2","v":0},{"$nulls":3},"Monat ","Oktober",{"$f":"'Abrechnung 01.20xx'!G2","v":202},null,"Bitte beachten Sie diese Hinweise:"]
[{"$nulls":8},"(Dieses Feld wird nicht gedruckt und braucht deshalb nicht gelöscht zu werden.)"]
["Arbeitsbereich",{"$nulls":3},"Datum"]
[{"$f":"'Abrechnung 01.20xx'!A5:C5","v":0},{"$nulls":7},"1) Für eine komfortable Anwendung sind einige Zellen mit Formeln hinterlegt."]
[{"$nulls":8},"    Bitte überschreiben Sie diese nicht, da sonst die unterstützenden Funktionen gelöscht werden."]
["Beleg-Nr.","Datum","Verwendungszweck",null,null,"Betrag in €"]
[{"$nulls":5},"Haben","Soll",null,"2) Weitere wichtige Erläuterungen finden Sie bei einigen Zellen in Kommentaren."]
[0,"01.10.","Saldo Vormonat",null,null,{"$f":"'Abrechnung 09.20xx'!$F$40","v":{"v":0,"d":"0.00 €"}},null,null,"    Diese sind am kleinen roten Dreieck in der rechten oberen Ecke der Zelle erkennbar."]
[null,null,"Erstattung Fehlbetrag Vormonat"]
[null,null,"Überweisung Überschuss Vormonat"]
[{"$nulls":8},"    Der Kommentar wird sichtbar, indem die Zelle \"angeklickt\" oder auch nur der Cursor/die Maus"]
[{"$nulls":8},"    über die Zelle bewegt wird."]
{"$rows_empty":24}
[null,null,"Gesamtsumme:",null,null,{"$f":"SUM(F9:F37)","v":{"v":0,"d":"0.00 €"}},{"$f":"SUM(G9:G37)","v":{"v":0,"d":"0.00 €"}}]
["Überweisung an"]
[{"$f":"'Abrechnung 01.20xx'!A40:C40","v":0},{"$nulls":3},"Saldo:",{"$f":"F38-G38","v":{"v":0,"d":"0.00 €"}}]
[{"$nulls":4},"abzgl. Dauervorschuss:",{"$f":"'Abrechnung 09.20xx'!$F$41","v":{"v":0,"d":"0.00 €"}}]
["IBAN + BANK",{"$nulls":3},"Fehlbetrag/Überschuss:",{"$f":"F40-F41","v":{"v":0,"d":"0.00 €"}}]
[{"$f":"'Abrechnung 01.20xx'!A43:C43","v":"DE"}]
[{"$f":"'Abrechnung 01.20xx'!A44:C44","v":0}]
[null,null,"Sachlich richtig",null,null,"Angeordnet"]

{"sheet":"Abrechnung 11.20xx","index":10,"n_rows":45,"n_cols":9,"rows_kept":45,"merged":[[1,0,1,2],[4,0,4,2],[6,2,6,4],[6,5,6,6],[7,2,7,4],[8,2,8,4],[9,2,9,4],[10,2,10,4],[11,2,11,4],[12,2,12,4],[13,2,13,4],[14,2,14,4],[15,2,15,4],[16,2,16,4],[17,2,17,4],[18,2,18,4],[19,2,19,4],[20,2,20,4],[21,2,21,4],[22,2,22,4],[23,2,23,4],[24,2,24,4],[25,2,25,4],[26,2,26,4],[27,2,27,4],[28,2,28,4],[29,2,29,4],[30,2,30,4],[31,2,31,4],[32,2,32,4],[33,2,33,4],[34,2,34,4],[35,2,35,4],[36,2,36,4],[37,2,37,4],[39,0,39,2],[42,0,42,2],[43,0,43,2]]}
["Mandant",{"$nulls":3},"Abrechnung Handgeldvorschuss"]
[{"$f":"'Abrechnung 01.20xx'!A2:C2","v":0},{"$nulls":3},"Monat ","November",{"$f":"'Abrechnung 01.20xx'!G2","v":202},null,"Bitte beachten Sie diese Hinweise:"]
[{"$nulls":8},"(Dieses Feld wird nicht gedruckt und braucht deshalb nicht gelöscht zu werden.)"]
["Arbeitsbereich",{"$nulls":3},"Datum"]
[{"$f":"'Abrechnung 01.20xx'!A5:C5","v":0},{"$nulls":7},"1) Für eine komfortable Anwendung sind einige Zellen mit Formeln hinterlegt."]
[{"$nulls":8},"    Bitte überschreiben Sie diese nicht, da sonst die unterstützenden Funktionen gelöscht werden."]
["Beleg-Nr.","Datum","Verwendungszweck",null,null,"Betrag in €"]
[{"$nulls":5},"Haben","Soll",null,"2) Weitere wichtige Erläuterungen finden Sie bei einigen Zellen in Kommentaren."]
[0,"01.11.","Saldo Vormonat",null,null,{"$f":"'Abrechnung 10.20xx'!$F$40","v":{"v":0,"d":"0.00 €"}},null,null,"    Diese sind am kleinen roten Dreieck in der rechten oberen Ecke der Zelle erkennbar."]
[null,null,"Erstattung Fehlbetrag Vormonat"]
[null,null,"Überweisung Überschuss Vormonat"]
[{"$nulls":8},"    Der Kommentar wird sichtbar, indem die Zelle \"angeklickt\" oder auch nur der Cursor/die Maus"]
[{"$nulls":8},"    über die Zelle bewegt wird."]
{"$rows_empty":24}
[null,null,"Gesamtsumme:",null,null,{"$f":"SUM(F9:F37)","v":{"v":0,"d":"0.00 €"}},{"$f":"SUM(G9:G37)","v":{"v":0,"d":"0.00 €"}}]
["Überweisung an"]
[{"$f":"'Abrechnung 01.20xx'!A40:C40","v":0},{"$nulls":3},"Saldo:",{"$f":"F38-G38","v":{"v":0,"d":"0.00 €"}}]
[{"$nulls":4},"abzgl. Dauervorschuss:",{"$f":"'Abrechnung 10.20xx'!$F$41","v":{"v":0,"d":"0.00 €"}}]
["IBAN + BANK",{"$nulls":3},"Fehlbetrag/Überschuss:",{"$f":"F40-F41","v":{"v":0,"d":"0.00 €"}}]
[{"$f":"'Abrechnung 01.20xx'!A43:C43","v":"DE"}]
[{"$f":"'Abrechnung 01.20xx'!A44:C44","v":0}]
[null,null,"Sachlich richtig",null,null,"Angeordnet"]

{"sheet":"Abrechnung 12.20xx","index":11,"n_rows":45,"n_cols":9,"rows_kept":45,"merged":[[1,0,1,2],[4,0,4,2],[6,2,6,4],[6,5,6,6],[7,2,7,4],[8,2,8,4],[9,2,9,4],[10,2,10,4],[11,2,11,4],[12,2,12,4],[13,2,13,4],[14,2,14,4],[15,2,15,4],[16,2,16,4],[17,2,17,4],[18,2,18,4],[19,2,19,4],[20,2,20,4],[21,2,21,4],[22,2,22,4],[23,2,23,4],[24,2,24,4],[25,2,25,4],[26,2,26,4],[27,2,27,4],[28,2,28,4],[29,2,29,4],[30,2,30,4],[31,2,31,4],[32,2,32,4],[33,2,33,4],[34,2,34,4],[35,2,35,4],[36,2,36,4],[37,2,37,4],[39,0,39,2],[42,0,42,2],[43,0,43,2]]}
["Mandant",{"$nulls":3},"Abrechnung Handgeldvorschuss"]
[{"$f":"'Abrechnung 01.20xx'!A2:C2","v":0},{"$nulls":3},"Monat ","Dezember",{"$f":"'Abrechnung 01.20xx'!G2","v":202},null,"Bitte beachten Sie diese Hinweise:"]
[{"$nulls":8},"(Dieses Feld wird nicht gedruckt und braucht deshalb nicht gelöscht zu werden.)"]
["Arbeitsbereich",{"$nulls":3},"Datum"]
[{"$f":"'Abrechnung 01.20xx'!A5:C5","v":0},{"$nulls":7},"1) Für eine komfortable Anwendung sind einige Zellen mit Formeln hinterlegt."]
[{"$nulls":8},"    Bitte überschreiben Sie diese nicht, da sonst die unterstützenden Funktionen gelöscht werden."]
["Beleg-Nr.","Datum","Verwendungszweck",null,null,"Betrag in €"]
[{"$nulls":5},"Haben","Soll",null,"2) Weitere wichtige Erläuterungen finden Sie bei einigen Zellen in Kommentaren."]
[0,"01.12.","Saldo Vormonat",null,null,{"$f":"'Abrechnung 11.20xx'!$F$40","v":{"v":0,"d":"0.00 €"}},null,null,"    Diese sind am kleinen roten Dreieck in der rechten oberen Ecke der Zelle erkennbar."]
[null,null,"Erstattung Fehlbetrag Vormonat"]
[null,null,"Überweisung Überschuss Vormonat"]
[{"$nulls":8},"    Der Kommentar wird sichtbar, indem die Zelle \"angeklickt\" oder auch nur der Cursor/die Maus"]
[{"$nulls":8},"    über die Zelle bewegt wird."]
{"$rows_empty":24}
[null,null,"Gesamtsumme:",null,null,{"$f":"SUM(F9:F37)","v":{"v":0,"d":"0.00 €"}},{"$f":"SUM(G9:G37)","v":{"v":0,"d":"0.00 €"}}]
["Überweisung an"]
[{"$f":"'Abrechnung 01.20xx'!A40:C40","v":0},{"$nulls":3},"Saldo:",{"$f":"F38-G38","v":{"v":0,"d":"0.00 €"}}]
[{"$nulls":4},"abzgl. Dauervorschuss:",{"$f":"'Abrechnung 11.20xx'!$F$41","v":{"v":0,"d":"0.00 €"}}]
["IBAN + BANK",{"$nulls":3},"Fehlbetrag/Überschuss:",{"$f":"F40-F41","v":{"v":0,"d":"0.00 €"}}]
[{"$f":"'Abrechnung 01.20xx'!A43:C43","v":"DE"}]
[{"$f":"'Abrechnung 01.20xx'!A44:C44","v":0}]
[null,null,"Sachlich richtig",null,null,"Angeordnet"]